BEGIN:VCALENDAR
VERSION:2.0
PRODID:-//ChamberMaster//Event Calendar 2.0//EN
METHOD:PUBLISH
X-PUBLISHED-TTL:P1H
REFRESH-INTERVAL:P1H
CALSCALE:GREGORIAN
BEGIN:VTIMEZONE
TZID:America/Chicago
BEGIN:DAYLIGHT
RRULE:FREQ=YEARLY;BYMONTH=3;BYDAY=2SU
DTSTART:20070101T000000
TZOFFSETFROM:-0600
TZOFFSETTO:-0500
TZNAME:Central Daylight Time
END:DAYLIGHT
BEGIN:STANDARD
RRULE:FREQ=YEARLY;BYMONTH=11;BYDAY=1SU
DTSTART:20070101T000000
TZOFFSETFROM:-0500
TZOFFSETTO:-0600
TZNAME:Central Standard Time
END:STANDARD
END:VTIMEZONE
BEGIN:VEVENT
DTSTART;TZID=America/Chicago:20260423T173000
DTEND;TZID=America/Chicago:20260423T200000
X-MICROSOFT-CDO-ALLDAYEVENT:FALSE
SUMMARY:Taste of the Lakes
DESCRIPTION:Check-In: 5:30 p.m. Food & Beverage Sampling (From local vendors committed to young people): 5:30 p.m. - 7:00 p.m. Keynote Speaker and 50 Year Celebration: 7:00 p.m. - 8:00pm Sam Eaton is a mental health advocate\, speaker\, and founder and author of Recklessly Alive\, sharing a powerful message of resilience\, healing\, and hope grounded in lived experience. Anniversary Dessert Celebration: 8:00 pmFind out more: https://www.lc4yf.org/schedule
X-ALT-DESC;FMTTYPE=text/html:<!DOCTYPE html><html><head><title></title></head><body aria-disabled="false"><p>Check-In: 5:30 p.m.&nbsp\;</p><p>Food &amp\; Beverage Sampling (From local vendors committed to young people): 5:30 p.m. - 7:00 p.m.&nbsp\;</p><p>Keynote Speaker and 50 Year Celebration: 7:00 p.m. - 8:00pm&nbsp\;</p><p>Sam Eaton is a mental health advocate\, speaker\, and founder and author of Recklessly Alive\, sharing a powerful message of resilience\, healing\, and hope grounded in lived experience.&nbsp\;</p><p>Anniversary Dessert Celebration: 8:00 pm</p><p>Find out more:&nbsp\;<a fr-original-style="" href="https://www.lc4yf.org/schedule" style="user-select: auto\;">https://www.lc4yf.org/schedule</a></p></body></html>
LOCATION:840 South Lake Street Forest Lake MN 55025
UID:e.2361.1418128
SEQUENCE:3
DTSTAMP:20260420T045220Z
URL:https://forestlakeareachamberofcommerce.growthzoneapp.com/communityevents/Details/taste-of-the-lakes-1676239?sourceTypeId=Hub
END:VEVENT
END:VCALENDAR
