BEGIN:VCALENDAR
VERSION:2.0
PRODID:-//ChamberMaster//Event Calendar 2.0//EN
METHOD:PUBLISH
X-PUBLISHED-TTL:P1H
REFRESH-INTERVAL:P1H
CALSCALE:GREGORIAN
BEGIN:VTIMEZONE
TZID:America/Chicago
BEGIN:DAYLIGHT
RRULE:FREQ=YEARLY;BYMONTH=3;BYDAY=2SU
DTSTART:20070101T000000
TZOFFSETFROM:-0600
TZOFFSETTO:-0500
TZNAME:Central Daylight Time
END:DAYLIGHT
BEGIN:STANDARD
RRULE:FREQ=YEARLY;BYMONTH=11;BYDAY=1SU
DTSTART:20070101T000000
TZOFFSETFROM:-0500
TZOFFSETTO:-0600
TZNAME:Central Standard Time
END:STANDARD
END:VTIMEZONE
BEGIN:VEVENT
DTSTART;TZID=America/Chicago:20260404T100000
DTEND;TZID=America/Chicago:20260404T120000
X-MICROSOFT-CDO-ALLDAYEVENT:FALSE
SUMMARY:Easter by the Lake (Easter Bunny Photos 4/4)
DESCRIPTION:We are pleased to offer Easter by the Lake (Forest Lake) again this year! Join us for photos with the Easter Bunny opportunities hosted at LaBelle Real Estate with three dates prior to the Egg Hunt at Lakeside Memorial Park!!Pre-registration is required! Registration link for Photos with the Easter Bunny: https://bit.ly/4hH4ZAT
X-ALT-DESC;FMTTYPE=text/html:<!DOCTYPE html><html><head><title></title></head><body aria-disabled="false"><p>We are pleased to offer Easter by the Lake (Forest Lake) again this year!&nbsp\;</p><p>Join us for photos with the Easter Bunny opportunities hosted at LaBelle Real Estate with three dates prior to the Egg Hunt at Lakeside Memorial Park!!</p><p>Pre-registration is required! Registration link for Photos with the Easter Bunny: <a data-auth="NotApplicable" data-linkindex="0" fr-original-style="" href="https://bit.ly/4hH4ZAT" rel="noopener noreferrer" style="user-select: auto\;" target="_blank" title="https://bit.ly/4hH4ZAT">https://bit.ly/4hH4ZAT</a></p><p><br></p><p><br></p></body></html>
LOCATION:85 Lake Street N Forest Lake MN 55025
UID:e.2361.1390554
SEQUENCE:3
DTSTAMP:20260420T045221Z
URL:https://forestlakeareachamberofcommerce.growthzoneapp.com/communityevents/Details/easter-by-the-lake-easter-bunny-photos-4-4-1642682?sourceTypeId=Hub
END:VEVENT
END:VCALENDAR
