BEGIN:VCALENDAR
VERSION:2.0
PRODID:-//ChamberMaster//Event Calendar 2.0//EN
METHOD:PUBLISH
X-PUBLISHED-TTL:P1H
REFRESH-INTERVAL:P1H
CALSCALE:GREGORIAN
BEGIN:VTIMEZONE
TZID:America/Chicago
BEGIN:DAYLIGHT
RRULE:FREQ=YEARLY;BYMONTH=3;BYDAY=2SU
DTSTART:20070101T000000
TZOFFSETFROM:-0600
TZOFFSETTO:-0500
TZNAME:Central Daylight Time
END:DAYLIGHT
BEGIN:STANDARD
RRULE:FREQ=YEARLY;BYMONTH=11;BYDAY=1SU
DTSTART:20070101T000000
TZOFFSETFROM:-0500
TZOFFSETTO:-0600
TZNAME:Central Standard Time
END:STANDARD
END:VTIMEZONE
BEGIN:VEVENT
DTSTART;TZID=America/Chicago:20260418T000000
DTEND;TZID=America/Chicago:20260418T000000
X-MICROSOFT-CDO-ALLDAYEVENT:FALSE
SUMMARY:Dunkin Donuts Grand Opening Celebration
DESCRIPTION:Save the date! More info soon.
X-ALT-DESC;FMTTYPE=text/html:Save the date! More info soon.
LOCATION:1420 Lake Street South #100 Forest Lake MN 55025
UID:e.2361.1418147
SEQUENCE:3
DTSTAMP:20260420T045041Z
URL:https://forestlakeareachamberofcommerce.growthzoneapp.com/communityevents/Details/dunkin-donuts-grand-opening-celebration-1676258?sourceTypeId=Hub
END:VEVENT
END:VCALENDAR
