BEGIN:VCALENDAR
VERSION:2.0
PRODID:-//ChamberMaster//Event Calendar 2.0//EN
METHOD:PUBLISH
X-PUBLISHED-TTL:P1H
REFRESH-INTERVAL:P1H
CALSCALE:GREGORIAN
BEGIN:VTIMEZONE
TZID:America/Chicago
BEGIN:DAYLIGHT
RRULE:FREQ=YEARLY;BYMONTH=3;BYDAY=2SU
DTSTART:20070101T000000
TZOFFSETFROM:-0600
TZOFFSETTO:-0500
TZNAME:Central Daylight Time
END:DAYLIGHT
BEGIN:STANDARD
RRULE:FREQ=YEARLY;BYMONTH=11;BYDAY=1SU
DTSTART:20070101T000000
TZOFFSETFROM:-0500
TZOFFSETTO:-0600
TZNAME:Central Standard Time
END:STANDARD
END:VTIMEZONE
BEGIN:VEVENT
DTSTART;TZID=America/Chicago:20260813T173041
DTEND;TZID=America/Chicago:20260813T200041
X-MICROSOFT-CDO-ALLDAYEVENT:FALSE
SUMMARY:WCCC Boat Cruise
DESCRIPTION:
X-ALT-DESC;FMTTYPE=text/html:
LOCATION:525 South Main Street Stillwater 55082
UID:e.2361.1444810
SEQUENCE:3
DTSTAMP:20260420T044912Z
URL:https://forestlakeareachamberofcommerce.growthzoneapp.com/communityevents/Details/wccc-boat-cruise-1711206?sourceTypeId=Hub
END:VEVENT
END:VCALENDAR
