BEGIN:VCALENDAR
VERSION:2.0
PRODID:-//ChamberMaster//Event Calendar 2.0//EN
METHOD:PUBLISH
X-PUBLISHED-TTL:P1H
REFRESH-INTERVAL:P1H
CALSCALE:GREGORIAN
BEGIN:VTIMEZONE
TZID:America/Chicago
BEGIN:DAYLIGHT
RRULE:FREQ=YEARLY;BYMONTH=3;BYDAY=2SU
DTSTART:20070101T000000
TZOFFSETFROM:-0600
TZOFFSETTO:-0500
TZNAME:Central Daylight Time
END:DAYLIGHT
BEGIN:STANDARD
RRULE:FREQ=YEARLY;BYMONTH=11;BYDAY=1SU
DTSTART:20070101T000000
TZOFFSETFROM:-0500
TZOFFSETTO:-0600
TZNAME:Central Standard Time
END:STANDARD
END:VTIMEZONE
BEGIN:VEVENT
DTSTART;TZID=America/Chicago:20260709T150000
DTEND;TZID=America/Chicago:20260709T160000
X-MICROSOFT-CDO-ALLDAYEVENT:FALSE
SUMMARY:July Ambassador Visits 2026
DESCRIPTION:📍 Various | 📅 Thurs\, July 9th | ⏰ 3 - 4pmAmbassadors are our go-to volunteer team the smiling faces you see at ribbon cuttings\, Chamber events\, and community gatherings. ﻿They help new members feel welcome\, foster connections\, and represent the Chamber with a "roses and sunshine" attitude. Ambassadors play a vital role in strengthening relationships throughout the Forest Lake area.This months visits:Select Auto- 3:00pm - VisitLocation: 26643 Fallbrook Ave\, Wyoming MN 55092TBA - 3:30pm - Ribbon CuttingLocation: TBANo Member Mixer this month!
X-ALT-DESC;FMTTYPE=text/html:<!DOCTYPE html><html><head><title></title></head><body aria-disabled="false"><p>📍 Various | 📅 Thurs\, July 9th | ⏰ 3 - 4pm</p><p>Ambassadors are our go-to volunteer team&mdash\;the smiling faces you see at ribbon cuttings\, Chamber events\, and community gatherings. ﻿They help new members feel welcome\, foster connections\, and represent the Chamber with a &ldquo\;roses and sunshine&rdquo\; attitude. Ambassadors play a vital role in strengthening relationships throughout the Forest Lake area.</p><p>This months visits:</p><p><strong fr-original-style="" style="font-weight: 700\;">Select Auto- 3:00pm - Visit</strong></p><p>Location: 26643 Fallbrook Ave\, Wyoming MN 55092</p><p><strong fr-original-style="" style="font-weight: 700\;">TBA - 3:30pm - Ribbon Cutting</strong></p><p>Location: TBA</p><p><strong fr-original-style="" style="font-weight: 700\;">No Member Mixer this month!</strong></p></body></html>
LOCATION:
UID:e.2361.1439282
SEQUENCE:3
DTSTAMP:20260420T045039Z
URL:https://forestlakeareachamberofcommerce.growthzoneapp.com/communityevents/Details/july-ambassador-visits-2026-1703684?sourceTypeId=Hub
END:VEVENT
END:VCALENDAR
