BEGIN:VCALENDAR
VERSION:2.0
PRODID:-//ChamberMaster//Event Calendar 2.0//EN
METHOD:PUBLISH
X-PUBLISHED-TTL:P1H
REFRESH-INTERVAL:P1H
CALSCALE:GREGORIAN
BEGIN:VTIMEZONE
TZID:America/Chicago
BEGIN:DAYLIGHT
RRULE:FREQ=YEARLY;BYMONTH=3;BYDAY=2SU
DTSTART:20070101T000000
TZOFFSETFROM:-0600
TZOFFSETTO:-0500
TZNAME:Central Daylight Time
END:DAYLIGHT
BEGIN:STANDARD
RRULE:FREQ=YEARLY;BYMONTH=11;BYDAY=1SU
DTSTART:20070101T000000
TZOFFSETFROM:-0500
TZOFFSETTO:-0600
TZNAME:Central Standard Time
END:STANDARD
END:VTIMEZONE
BEGIN:VEVENT
DTSTART;VALUE=DATE:20260727
DTEND;VALUE=DATE:20260729
TRANSP:TRANSPARENT
X-MICROSOFT-CDO-ALLDAYEVENT:TRUE
SUMMARY:39th Annual Forest Lake Chamber Golf Event
DESCRIPTION:Welcome to the Chamber's largest fundraiser and most anticipated event of the year where business meets the green in the most fun (and slightly competitive 😉) way possible!This year\, we're putting a Monopoly twist on our annual golf tournament so get ready to pass GO\, make connections\, and maybe even collect more than just $200! Whether you're playing for bragging rights\, building relationships\, or showcasing your business\, this is the place to be.Spend the day on the beautiful course at Forest Hills Golf Club enjoying a high-energy mix of networking\, friendly competition\, and interactive on-course experiences. From themed games and contests to creative team costumes and surprise moments throughout the day\, every hole brings a new opportunity to connect\, laugh\, and win big.✨ What to Expect:A lively\, Monopoly-themed golf experience with games and surprises throughout the courseA fun and competitive Best Dressed / Team Costume ContestCrowd-favorite contests like the Million Dollar Shot and moreOur iconic Course Rangers keeping the day running smoothlyPost-play Happy Hour\, games\, and networking on the patioA celebratory Awards Banquet\, raffle\, and giveaways to close out the dayNot a golfer? No problem there are plenty of ways to get in the game! From high-visibility sponsorships to volunteering and attending the banquet\, you can still be part of the excitement and make meaningful connections.Now in its 39th year\, this event continues to bring together local leaders\, Chamber members\, and community partners for a day that's as impactful as it is fun.🎯 Don't miss your chance to land on the right square this is one event you won't want to pass by!
X-ALT-DESC;FMTTYPE=text/html:<!DOCTYPE html><html><head><title></title></head><body aria-disabled="false"><p data-end="376" data-start="199">Welcome to the Chamber&rsquo\;s <strong data-end="285" data-start="224" fr-original-style="" style="font-weight: 700\;">largest fundraiser and most anticipated event of the year</strong>&mdash\;where business meets the green in the most fun (and slightly competitive 😉) way possible!</p><p data-end="668" data-start="378">This year\, we&rsquo\;re putting a <strong data-end="423" data-start="405" fr-original-style="" style="font-weight: 700\;">Monopoly twist</strong> on our annual golf tournament&mdash\;so get ready to <strong data-end="544" data-start="470" fr-original-style="" style="font-weight: 700\;">pass GO\, make connections\, and maybe even collect more than just $200!</strong> Whether you&#39\;re playing for bragging rights\, building relationships\, or showcasing your business\, this is <em data-end="655" data-start="650">the</em> place to be.</p><p data-end="1006" data-start="670">Spend the day on the beautiful course at Forest Hills Golf Club enjoying a high-energy mix of <strong data-end="839" data-start="764" fr-original-style="" style="font-weight: 700\;">networking\, friendly competition\, and interactive on-course experiences</strong>. From themed games and contests to creative team costumes and surprise moments throughout the day\, every hole brings a new opportunity to connect\, laugh\, and win big.</p><p data-end="1029" data-start="1008">✨ <strong data-end="1029" data-start="1010" fr-original-style="" style="font-weight: 700\;">What to Expect:</strong></p><ul data-end="1471" data-start="1030" fr-original-style="" style="list-style-position: inside\;"><li data-end="1122" data-section-id="1gy0a6s" data-start="1030">A lively\, Monopoly-themed golf experience with games and surprises throughout the course</li><li data-end="1188" data-section-id="1drmwoq" data-start="1123">A fun and competitive <strong data-end="1186" data-start="1147" fr-original-style="" style="font-weight: 700\;">Best Dressed / Team Costume Contest</strong></li><li data-end="1258" data-section-id="p82b43" data-start="1189">Crowd-favorite contests like the <strong data-end="1247" data-start="1224" fr-original-style="" style="font-weight: 700\;">Million Dollar Shot</strong> and more</li><li data-end="1325" data-section-id="5e339o" data-start="1259">Our iconic <strong data-end="1290" data-start="1272" fr-original-style="" style="font-weight: 700\;">Course Rangers</strong> keeping the day running smoothly</li><li data-end="1390" data-section-id="10z5tq2" data-start="1326">Post-play <strong data-end="1375" data-start="1338" fr-original-style="" style="font-weight: 700\;">Happy Hour\, games\, and networking</strong> on the patio</li><li data-end="1471" data-section-id="7kukyi" data-start="1391">A celebratory <strong data-end="1448" data-start="1407" fr-original-style="" style="font-weight: 700\;">Awards Banquet\, raffle\, and giveaways</strong> to close out the day</li></ul><p data-end="1692" data-start="1473">Not a golfer? No problem&mdash\;there are plenty of ways to get in the game! From high-visibility sponsorships to volunteering and attending the banquet\, you can still be part of the excitement and make meaningful connections.</p><p data-end="1897" data-start="1694">Now in its 39th year\, this event continues to bring together <strong data-end="1813" data-start="1755" fr-original-style="" style="font-weight: 700\;">local leaders\, Chamber members\, and community partners</strong> for a day that&rsquo\;s as impactful as it is fun.</p><p data-end="2001" data-start="1899">🎯 <strong data-end="2001" data-start="1902" fr-original-style="" style="font-weight: 700\;">Don&rsquo\;t miss your chance to land on the right square&mdash\;this is one event you won&rsquo\;t want to pass by!</strong></p></body></html>
LOCATION:7530 210th St North Forest Lake MN 55025
UID:e.2361.1390460
SEQUENCE:3
DTSTAMP:20260420T045115Z
URL:https://forestlakeareachamberofcommerce.growthzoneapp.com/communityevents/Details/39th-annual-forest-lake-chamber-golf-event-1642424?sourceTypeId=Hub
END:VEVENT
END:VCALENDAR
